BEGIN:VCALENDAR
VERSION:2.0
PRODID:-//Tukios.com/
BEGIN:VEVENT
UID:e361fb17-6185-4308-8ed3-e3406783c511@www.czaplewskifuneralhomes.com
DTSTAMP:20260421T023956Z
DTSTART:20260426T190000Z
DTEND:20260426T220000Z
SUMMARY:Visitation
DESCRIPTION:
URL:https://www.czaplewskifuneralhomes.com/obituaries/mavis-berge
LOCATION:Czaplewski Family Funeral Homes 801 7th St SE  Kasson MN 55944
GEO:44.021831;-92.7376829
END:VEVENT
END:VCALENDAR