BEGIN:VCALENDAR
VERSION:2.0
PRODID:-//Tukios.com/
BEGIN:VEVENT
UID:a2636af0-246e-4cef-91f4-c2335100a4fd@www.czaplewskifuneralhomes.com
DTSTAMP:20260421T023837Z
DTSTART:20260427T160000Z
DTEND:20260427T170000Z
SUMMARY:Funeral Service
DESCRIPTION:
URL:https://www.czaplewskifuneralhomes.com/obituaries/mavis-berge
LOCATION:South Zumbro Lutheran Church 68905 280th Ave  Kasson MN 55944
GEO:43.951416;-92.6786548
END:VEVENT
END:VCALENDAR