BEGIN:VCALENDAR
VERSION:2.0
PRODID:-//Tukios.com/
BEGIN:VEVENT
UID:197e9fa4-a4eb-4bd8-b81f-de72f13324df@www.czaplewskifuneralhomes.com
DTSTAMP:20260421T023553Z
DTSTART:20260427T150000Z
DTEND:20260427T160000Z
SUMMARY:Visitation
DESCRIPTION:
URL:https://www.czaplewskifuneralhomes.com/obituaries/mavis-berge
LOCATION: 68905 280th Ave  Kasson MN 55944
GEO:43.951416;-92.6786548
END:VEVENT
END:VCALENDAR